BEGIN:VCALENDAR
VERSION:2.0
PRODID:-//Gerald R. Ford Amphitheater - Official Website //NONSGML Events //EN
CALSCALE:GREGORIAN
X-WR-CALNAME:Gerald R. Ford Amphitheater - Official Website
BEGIN:VEVENT
CREATED:20230301T180004Z
UID:13497
DTEND;VALUE=DATE:20230608T190000
DTSTART;VALUE=DATE:20230608T190000
DTSTAMP:20260423T161716Z
LOCATION:
DESCRIPTION:Brothers Of A Feather with Chris & Rich Robinson of the Black Crowes | The Motet THURSDAY, JUNE 9 6:30 PM
SUMMARY:Brothers of a Feather with Chris & Rich Robinson | The Motet
ORGANIZER:Gerald R. Ford Amphitheater - Official Website
URL;VALUE=URI:https://grfavail.com/event/brothers-of-a-feather-with-chris-rich-robinson-the-motet/
TRANSP:OPAQUE
BEGIN:VALARM
ACTION:DISPLAY
TRIGGER;VALUE=DATE-TIME:20230608T190000
DESCRIPTION:Reminder for Brothers of a Feather with Chris &amp\; Rich Robinson | The Motet
END:VALARM
END:VEVENT
END:VCALENDAR
