BEGIN:VCALENDAR
VERSION:2.0
PRODID:-//Gerald R. Ford Amphitheater - Official Website //NONSGML Events //EN
CALSCALE:GREGORIAN
X-WR-CALNAME:Gerald R. Ford Amphitheater - Official Website
BEGIN:VEVENT
CREATED:20230315T170003Z
UID:14555
DTEND;VALUE=DATE:20230805T170000
DTSTART;VALUE=DATE:20230805T170000
DTSTAMP:20260423T233707Z
LOCATION:
DESCRIPTION:<h4 class="text-blue">GERALD R. FORD AMPHITHEATER</h4> Showcasing a selection of today’s dance stars representing a wide range of styles and genres from ballet and modern to tap and street dance, these annual performances have become legendary in featuring new partnerships, debuts and daring collaborations by extraordinary artists from around the world. <strong>This performance will not have an intermission. </strong> <em>Generously Underwritten by <span class="TextRun SCXW166699437 BCX0" lang="EN-US" xml:lang="EN-US" data-contrast="auto"><span class="NormalTextRun SCXW166699437 BCX0">Marge & Phil Odeen, additional support by Senenne & Marc Philippon.</span></span></em> <a class="btn btn-blue" href="https://vaildance.org/wp-content/uploads/2023/03/8.5-IE-2_1231.pdf" target="_blank" rel="noopener">PRINTABLE PROGRAM</a> <em><strong>C</strong></em><em style="font-weight: bold;">asting and repertory are subject to change.</em> International Evenings of Dance III will take place on Saturday, August 5 at 8:00pm (no intermission). <a class="btn btn-blue" href="http://vaildance.org/event/ie3-2023" target="_blank" rel="noopener">INTERNATIONAL EVENINGS OF DANCE III</a> <hr /> <em>Photo credit: Catherine Hurlin in "Don Quixote" at the 2019 Vail Dance Festival. Photo by Christopher Duggan.</em>
SUMMARY:International Evenings of Dance II
ORGANIZER:Gerald R. Ford Amphitheater - Official Website
URL;VALUE=URI:https://grfavail.com/event/international-evenings-of-dance-ii/
TRANSP:OPAQUE
BEGIN:VALARM
ACTION:DISPLAY
TRIGGER;VALUE=DATE-TIME:20230805T170000
DESCRIPTION:Reminder for International Evenings of Dance II
END:VALARM
END:VEVENT
END:VCALENDAR
