BEGIN:VCALENDAR
VERSION:2.0
PRODID:-//Gerald R. Ford Amphitheater - Official Website //NONSGML Events //EN
CALSCALE:GREGORIAN
X-WR-CALNAME:Gerald R. Ford Amphitheater - Official Website
BEGIN:VEVENT
CREATED:20230418T165816Z
UID:15879
DTEND;VALUE=DATE:20230620T183000
DTSTART;VALUE=DATE:20230620T183000
DTSTAMP:20260423T180641Z
LOCATION:
DESCRIPTION:<h1 class="text-orange">Tuesday, June 20, 2023</h1> <p class="font_9">The LowDown Brass Band is a uniquely strong representation of Chicago Music culture. This talented all-horn band leans heavily on dancehall and street-beat rhythm, with the energy of conscious hip-hop, jazz, reggae, and soul.</p> <p class="font_9">LowDown maintains a constant performing and touring schedule throughout the globe. Recent performances include an opening run with Galactic, Bon Jovi, The Montreal Jazz Festival, World Music Fest, Vancouver Jazz Fest, <a>Lagunitas Beer Circus</a>, <a>Chicago Jazz Fest</a>, <a>Frendly Gathering</a>, <a>Alaska's Salmon Fest,</a> <a>Chicago's Do-Division Fest</a>, Wicker Park Fest, <a>Wakarusa</a>, and Cotai Jazz Fest.<span class="wixGuard">​</span></p> <p class="font_9">LowDown is currently touring their last two albums "The Reel Sessions" & "LowDown Nights," created during the pandemic. These albums dive deeper into their unique sound and show how the collective continues to push the genre further into the future and beyond.</p> Learn more at <strong><a href="https://www.lowdownbrassband.com/">www.lowdownbrassband.com</a>.</strong>
SUMMARY:Lowdown Brass Band
ORGANIZER:Gerald R. Ford Amphitheater - Official Website
URL;VALUE=URI:https://grfavail.com/event/lowdown-brass-band/
TRANSP:OPAQUE
BEGIN:VALARM
ACTION:DISPLAY
TRIGGER;VALUE=DATE-TIME:20230620T183000
DESCRIPTION:Reminder for Lowdown Brass Band
END:VALARM
END:VEVENT
END:VCALENDAR
