BEGIN:VCALENDAR
VERSION:2.0
PRODID:-//Gerald R. Ford Amphitheater - Official Website //NONSGML Events //EN
CALSCALE:GREGORIAN
X-WR-CALNAME:Gerald R. Ford Amphitheater - Official Website
BEGIN:VEVENT
CREATED:20240227T145820Z
UID:23734
DTEND;VALUE=DATE:20240912T200000
DTSTART;VALUE=DATE:20240912T200000
DTSTAMP:20260423T191019Z
LOCATION:
DESCRIPTION:<h3 class="text-orange"><strong>Thursday, September 12, 2024</strong></h3> <h1 class="text-green text-uppercase">JIM GAFFIGAN</h1> <h2 class="text-green text-uppercase">Barely Alive Tour</h2> <strong>ABOUT JIM GAFFIGAN: </strong>Gaffigan is a seven-time Grammy-nominated comedian, actor, writer, producer, two-time New York Times best-selling author, three-time Emmy-winning top touring performer, and multi-Platinum-selling recording artist. He is known around the world for his unique brand of humor, which largely revolves around his observations on life. Gaffigan is a top 10 comedian according to Forbes’ most recent comedy list, and top 10 earning comedian in Pollstar’s 2022 list. He released his 10th comedy special, “Dark Pale,” this year on Amazon Prime Video – an unprecedented achievement for the comedian/actor. “Dark Pale” was met with critical fanfare, with The New York Times calling it Gaffigan’s best yet. Gaffigan was also recently recognized for being the first comedian to reach 1 billion streams on Pandora. He can currently be seen as the lead in the well-reviewed Sci-Fi dramedy, “Linoleum,” and stars as Mr. Smee in “Disney’s Peter Pan and Wendy,” opposite Jude Law and Yara Shahidi. He will co-star with Jerry Seinfeld, Melissa McCarthy, James Marsden and Hugh Grant in Netflix’s “Unfrosted.” On the silver screen, Gaffigan’s many credits include “Three Kings,” “Super Troopers” and “Chappaquiddick.” 2019 was Gaffigan’s biggest year to date with an astonishing eight films releasing, three which premiered at the Sundance Film Festival – including “Troop Zero” with Viola Davis and Alison Janney, “Them That Follow” and “Light From Light” – with many festivalgoers and press calling Gaffigan the “King of Sundance.” Gaffigan was also recently heard in Disney/Pixar’s animated film, “Luca,” opposite Jacob Tremblay and Maya Rudolph. <strong><a href="https://www.jimgaffigan.com/">Learn More ></a></strong> <em>Gates open at 7:00pm, Show starts at 8:00pm.</em>
SUMMARY:JIM GAFFIGAN
ORGANIZER:Gerald R. Ford Amphitheater - Official Website
URL;VALUE=URI:https://grfavail.com/event/jim-gaffigan/
TRANSP:OPAQUE
BEGIN:VALARM
ACTION:DISPLAY
TRIGGER;VALUE=DATE-TIME:20240912T200000
DESCRIPTION:Reminder for JIM GAFFIGAN
END:VALARM
END:VEVENT
END:VCALENDAR
