BEGIN:VCALENDAR
VERSION:2.0
PRODID:-//Gerald R. Ford Amphitheater - Official Website //NONSGML Events //EN
CALSCALE:GREGORIAN
X-WR-CALNAME:Gerald R. Ford Amphitheater - Official Website
BEGIN:VEVENT
CREATED:20240318T155518Z
UID:24224
DTEND;VALUE=DATE:20240922T193000
DTSTART;VALUE=DATE:20240922T193000
DTSTAMP:20260423T124152Z
LOCATION:
DESCRIPTION:<h3 class="text-orange"><strong>Sunday, September 22, 2024</strong></h3> <h1 class="text-green text-uppercase">BARENAKED LADIES</h1> <h2 class="text-green text-uppercase">WITH SPECIAL GUEST TOAD THE WET SPROCKET</h2> <strong>ABOUT BARENAKED LADIES:</strong> After more than three decades as the lead singer and guitarist for Barenaked Ladies, Ed Robertson has a routine when it comes time to start writing songs for a new album. "I tend to get ideas while I'm driving up to my lake house," he says. "I record voice memos along the way, and then I listen back and try to make sense of them and mix and match the various ideas I've come up with. On a typical drive, I'm happy if I get six or seven — eight ideas would be a good drive. "For this album," he continues, "on my first writing trip I had 21 different song ideas. I thought, 'Wow, this is really cool.' Then I sat down to write, and I thought if I could finish one of them — get the verses, get the bridge, get the chorus in one day — then I'll know this whole writing period is going to be good. And I finished eight songs. I sat down at 10 in the morning, and I looked up at 9:30 and I hadn't eaten, I hadn't moved from the writing table. It was exciting. I've never felt that before." The results mark a new chapter for a band that's sold more than 15 million albums, earned Grammy nominations and won multiple Juno Awards, and in 2018, were inducted into the Canadian Music Hall of Fame. <em>In Flight</em>, BNL's eighteenth studio album, retains the dry wit and keen observation we expect from Robertson, bassist Jim Creeggan, keyboardist/guitarist Kevin Hearn and drummer Tyler Stewart, but adds a strong sense of maturing and lessons learned. <strong><a href="https://www.barenakedladies.com/splash/">Learn More ></a></strong> <strong>ABOUT TOAD THE WET SPROCKET: </strong> Toad The Wet Sprocket – the trio of founding members Glen Phillips, Todd Nichols, and Dean Dinning – are still making new music and touring with the same spirit and independence that started it all, over three decades ago. This year marks a new milestone in their journey with the 30th anniversary of the 1994 platinum-selling album Dulcinea. After the success of fear (1991) the band re-teamed with producer Gavin MacKillop, to create a new body of work that would become their album Dulcinea, and sequestered themselves in a residential studio in Marin County, CA. Inspired by the sound they had developed from their recent touring, the band tracked the record mostly live in a huge room lit by hundreds of candles. With minimal overdubs, the album comes across as an honest document of a stunning batch of songs, some of which had the benefit of having been already played on the road. <strong><a href="https://toadthewetsprocket.com/">Learn More ></a></strong> <em>Gates open at 6:30pm, Show starts at 7:30pm.</em>
SUMMARY:BARENAKED LADIES
ORGANIZER:Gerald R. Ford Amphitheater - Official Website
URL;VALUE=URI:https://grfavail.com/event/barenaked-ladies/
TRANSP:OPAQUE
BEGIN:VALARM
ACTION:DISPLAY
TRIGGER;VALUE=DATE-TIME:20240922T193000
DESCRIPTION:Reminder for BARENAKED LADIES
END:VALARM
END:VEVENT
END:VCALENDAR
