BEGIN:VCALENDAR
VERSION:2.0
PRODID:-//Gerald R. Ford Amphitheater - Official Website //NONSGML Events //EN
CALSCALE:GREGORIAN
X-WR-CALNAME:Gerald R. Ford Amphitheater - Official Website
BEGIN:VEVENT
CREATED:20241119T184503Z
UID:27558
DTEND;VALUE=DATE:20250529T193000
DTSTART;VALUE=DATE:20250529T193000
DTSTAMP:20260423T160046Z
LOCATION:
DESCRIPTION:<h3 class="text-orange"><strong>Thursday, May 29, 2025</strong></h3> <h1 class="text-green">Michael Franti & Spearhead</h1> <h2 class="text-green">with special guest Niko Moon</h2>   <p class="text-uppercase"><strong>ABOUT Michael Franti & Spearhead:</strong></p> Michael Franti is a globally recognized musician, humanitarian, and activist revered for his high-energy live shows, inspiring music, devotion to health & wellness, worldwide philanthropic efforts and the power of optimism. Throughout his multi-decade career, Franti has earned Billboard No. 1’s with triumphantly hopeful hits including "I Got You," from his latest album Work Hard & Be Nice, “Sound of Sunshine” and “Say Hey (I Love You),” as well as six Top 30 Hot AC singles, nine Top 25 AAA Singles and three Billboard Top 5 Rock Albums. “I Got You,” landed on NPR’s “Most Popular Songs of 2020,” while the music video boasts over a million views. In the spring of last year, Michael launched his “Stay Human” podcast, which peaked at #1 on Apple Podcasts Chart. The podcast, sponsored by Gibson and partnered with American Songwriter Podcast Network, was created out of the idea that "there's no one that you wouldn't love if you knew their story." In addition to being an artist, Michael Franti is also an activist, empowering his fans to take action in their own communities on topics such as ending gun violence, sustainability, and climate change. In union with Gun Violence Awareness Day, in June 2021, Michael released new song “You Will Always Hear My Echo”, to honor those that have lost their lives to gun violence. Michael's new single, Good Day For A Good Day, dropped on July 1, 2021 in support of his Good Day For A Good Day World Tour. <a href="https://michaelfranti.com/" target="_blank" rel="noopener"><strong>Learn More ></strong></a> <strong>ABOUT NIKO MOON:</strong> <p class="Type__TypeElement-sc-goli3j-0 cHsoWR" data-encore-id="type">Chart-topping American country artist NIKO MOON has been having a very good time since breaking out as a solo act in 2019, after being a member for a couple years of Sir Rosevelt alongside fellow artists Zac Brown and Ben Simonetti.</p> <p class="Type__TypeElement-sc-goli3j-0 cHsoWR" data-encore-id="type">His first single "Good Time" went #1 on country radio and his other hits continue to climb the charts as he releases more and more music, bringing a feel-good positive vibes message to all that listen.</p> <p data-encore-id="type"><strong><a href="https://nikomoon.com/" target="_blank" rel="noopener">Learn More ></a></strong></p> <em>Gates open at 6:30pm, Show starts at 7:30pm.</em>
SUMMARY:Michael Franti & Spearhead with special guest Niko Moon
ORGANIZER:Gerald R. Ford Amphitheater - Official Website
URL;VALUE=URI:https://grfavail.com/event/michael-franti-spearhead-2025/
TRANSP:OPAQUE
BEGIN:VALARM
ACTION:DISPLAY
TRIGGER;VALUE=DATE-TIME:20250529T193000
DESCRIPTION:Reminder for Michael Franti &#038\; Spearhead with special guest Niko Moon
END:VALARM
END:VEVENT
END:VCALENDAR
