BEGIN:VCALENDAR
VERSION:2.0
PRODID:-//Gerald R. Ford Amphitheater - Official Website //NONSGML Events //EN
CALSCALE:GREGORIAN
X-WR-CALNAME:Gerald R. Ford Amphitheater - Official Website
BEGIN:VEVENT
CREATED:20250303T160008Z
UID:33131
DTEND;VALUE=DATE:20250607T183000
DTSTART;VALUE=DATE:20250607T183000
DTSTAMP:20260421T082108Z
LOCATION:
DESCRIPTION:Saturday, June 7 6:30 PM
SUMMARY:Steel Pulse & Mike Posner
ORGANIZER:Gerald R. Ford Amphitheater - Official Website
URL;VALUE=URI:https://grfavail.com/event/steel-pulse-mike-posner/
TRANSP:OPAQUE
BEGIN:VALARM
ACTION:DISPLAY
TRIGGER;VALUE=DATE-TIME:20250607T183000
DESCRIPTION:Reminder for Steel Pulse &amp\; Mike Posner
END:VALARM
END:VEVENT
END:VCALENDAR
