BEGIN:VCALENDAR
VERSION:2.0
PRODID:-//Gerald R. Ford Amphitheater - Official Website //NONSGML Events //EN
CALSCALE:GREGORIAN
X-WR-CALNAME:Gerald R. Ford Amphitheater - Official Website
BEGIN:VEVENT
CREATED:20210428T174348Z
UID:3672
DTEND;VALUE=DATE:20210531T183000
DTSTART;VALUE=DATE:20210531T183000
DTSTAMP:20260423T161236Z
LOCATION:
DESCRIPTION:Join the students of Vail Valley Academy as they bring to you all of their hard work and excitement on stage for the first time in two years!  The dancer’s range in age from 3 to 19 and will perform dances in Acro, Contemporary, Hip Hop, Jazz, Tap and our darling baby ballerinas. Our amazing staff have choreographed wonderful pieces that bring our theme, “The Show Must Go On” to life, showcasing the passion and determination of a year that tested everyone’s patience. We are thrilled to bring live dance back to the valley that has supported and helped us through this unprecedented time.
SUMMARY:Vail Valley Academy of Dance Presents – The Show Must Go On
ORGANIZER:Gerald R. Ford Amphitheater - Official Website
URL;VALUE=URI:https://grfavail.com/event/vail-valley-academy-of-dance-presents-the-show-must-go-on-5-31/
TRANSP:OPAQUE
BEGIN:VALARM
ACTION:DISPLAY
TRIGGER;VALUE=DATE-TIME:20210531T183000
DESCRIPTION:Reminder for Vail Valley Academy of Dance Presents &#8211\; The Show Must Go On
END:VALARM
END:VEVENT
END:VCALENDAR
