BEGIN:VCALENDAR
VERSION:2.0
PRODID:-//Gerald R. Ford Amphitheater - Official Website //NONSGML Events //EN
CALSCALE:GREGORIAN
X-WR-CALNAME:Gerald R. Ford Amphitheater - Official Website
BEGIN:VEVENT
CREATED:20210515T205259Z
UID:3804
DTEND;VALUE=DATE:20210520T183000
DTSTART;VALUE=DATE:20210520T183000
DTSTAMP:20260423T200044Z
LOCATION:
DESCRIPTION:Get ready for a dazzling performance as the Homestake Peak Upper School drama Club presents: Getting the Know the Sound of Music. Tickets available at <a href="https://hpsdrama.org/">hpsdrama.org</a>.
SUMMARY:Homestake Peak presents – The Sound of Music
ORGANIZER:Gerald R. Ford Amphitheater - Official Website
URL;VALUE=URI:https://grfavail.com/event/homestake-peak-presents-the-sound-of-music/
TRANSP:OPAQUE
BEGIN:VALARM
ACTION:DISPLAY
TRIGGER;VALUE=DATE-TIME:20210520T183000
DESCRIPTION:Reminder for Homestake Peak presents &#8211\; The Sound of Music
END:VALARM
END:VEVENT
END:VCALENDAR
