BEGIN:VCALENDAR
VERSION:2.0
PRODID:-//Gerald R. Ford Amphitheater - Official Website //NONSGML Events //EN
CALSCALE:GREGORIAN
X-WR-CALNAME:Gerald R. Ford Amphitheater - Official Website
BEGIN:VEVENT
CREATED:20210528T143039Z
UID:3900
DTEND;VALUE=DATE:20210629T183000
DTSTART;VALUE=DATE:20210629T183000
DTSTAMP:20260423T130608Z
LOCATION:
DESCRIPTION:<h1 class="text-orange">Tuesday, June 29, 2021</h1> For nearly four decades Donavon Frankenreiter has been traveling the globe, first as a professional surfer and now as a musician. Born in Southern California, Donavon spent most of his youth chasing waves, turning pro at the age of 16. These days instead of surf competitions, it’s concert halls that bring Frankenreiter to town, where he entertains audiences with his unique blend of laid-back grooves, philosophical lyrics, and soulful delivery. You can find him touring the world with his three-piece band and still catching waves anytime he can. Learn more at <strong><a href="https://www.donavonf.com/#!" target="_blank" rel="noopener">donovanf.com</a>.</strong>
SUMMARY:Donavon Frankenreiter
ORGANIZER:Gerald R. Ford Amphitheater - Official Website
URL;VALUE=URI:https://grfavail.com/event/donavon-frankenreiter/
TRANSP:OPAQUE
BEGIN:VALARM
ACTION:DISPLAY
TRIGGER;VALUE=DATE-TIME:20210629T183000
DESCRIPTION:Reminder for Donavon Frankenreiter
END:VALARM
END:VEVENT
END:VCALENDAR
