BEGIN:VCALENDAR
VERSION:2.0
PRODID:-//Gerald R. Ford Amphitheater - Official Website //NONSGML Events //EN
CALSCALE:GREGORIAN
X-WR-CALNAME:Gerald R. Ford Amphitheater - Official Website
BEGIN:VEVENT
CREATED:20210528T143013Z
UID:3906
DTEND;VALUE=DATE:20210817T183000
DTSTART;VALUE=DATE:20210817T183000
DTSTAMP:20260423T155301Z
LOCATION:
DESCRIPTION:<h1 class="text-orange">Tuesday, August 17, 2021</h1>   Balancing male-female harmonies, strutting guitars, wild horn arrangements, and interminable grooves, a spirit takes shape on stage nightly for Turkuaz via larger-than-life performances. Among numerous critical plaudits, The New Yorker claimed, “[Turkuaz] delivers horn-filled funk incorporating elements of R&B, psychedelic pop, gospel, Afro-pop, New Wave, classic rock, and just about any genre that gets people dancing.” The Brooklyn-based nonet—Dave Brandwein [guitar, vocals], Taylor Shell [bass], Craig Brodhead [guitar, keys], Michelangelo Carubba [drums], Chris Brouwers [trumpet, keys], Greg Sanderson [tenor sax], Josh Schwartz [baritone sax, vocals], Sammi Garett [vocals], and Shira Elias [vocals]—ignite an explosion of energy punctuated by neon hues, deft musicality, and show-stopping singalongs on their newest EP, Kuadrochrome. Touring incessantly in support of four full-length studio albums, EPs and live releases, they’ve lit up stages everywhere from Bonnaroo, Hulaween, Okeechobee, Electric Forest, and Mountain Jam to Telluride Jazz, High Sierra, and Lock’n, in between gracing stages at legendary spots such as Red Rocks, Terminal 5, and The Fillmore, to name a few. Since emerging in 2011 with their self-titled debut, the group have quietly animated a movement. “I would love for our music to be a bright spot in an otherwise dark world. You can come to our shows, let go, exist, and have a good time in spite of what may be going on outside. That’s what music does for us. We want to share that.” Learn more at <strong><a href="http://www.turkuazband.com/" rel="noopener" target="_blank">turkuazband.com</a>.</strong>
SUMMARY:Turkuaz
ORGANIZER:Gerald R. Ford Amphitheater - Official Website
URL;VALUE=URI:https://grfavail.com/event/turkuaz/
TRANSP:OPAQUE
BEGIN:VALARM
ACTION:DISPLAY
TRIGGER;VALUE=DATE-TIME:20210817T183000
DESCRIPTION:Reminder for Turkuaz
END:VALARM
END:VEVENT
END:VCALENDAR
