BEGIN:VCALENDAR
VERSION:2.0
PRODID:-//Gerald R. Ford Amphitheater - Official Website //NONSGML Events //EN
CALSCALE:GREGORIAN
X-WR-CALNAME:Gerald R. Ford Amphitheater - Official Website
BEGIN:VEVENT
CREATED:20210603T232431Z
UID:4000
DTEND;VALUE=DATE:20210616T190000
DTSTART;VALUE=DATE:20210616T190000
DTSTAMP:20260423T180838Z
LOCATION:
DESCRIPTION:<h1 class="text-orange"><strong>Wednesday, June 16, 2021</strong></h1>   Join the Colorado Children’s Chorale as they open their 2021-2022 season entitled <strong>Hope Grows Here</strong>. With hope expressed through the power of music, you will be inspired; you will be encouraged; you will be entertained. It is through the voices of children that we see a future of possibilities. Children from the audience will join us from the aisles, and the entire family will be uplifted by this evening of free entertainment. The Colorado Children’s Chorale has been providing a free community concert (usually combined with a free workshop for area children) in Vail since 1988. They have performed for numerous World Ski events, and appeared on stage during Bravo! Vail. <strong>About the Colorado Children's Chorale: </strong> The Chorale <strong>annually trains 400 members between the ages of 7 and 14 </strong>from all ethnicities and socio-economic backgrounds representing more than 170 schools in the Denver metro area and beyond. Since its founding in 1974, the Chorale has sung countless performances with some of the world’s finest performing arts organizations, performed for numerous dignitaries, and appeared in several television and radio broadcasts. The <strong>Performance Program</strong> includes a <strong>series of self-produced concerts, numerous performances with other Colorado arts organizations and touring around the world.</strong> The 2021-2022 season includes <em>A</em> <em>Colorado Christmas</em> with the <strong>Colorado Symphony</strong>, and <em>Tosca</em> and<em> Carmen</em> with <strong>Opera Colorado</strong><strong>.</strong>
SUMMARY:Colorado Children’s Chorale: Voices in the Valley
ORGANIZER:Gerald R. Ford Amphitheater - Official Website
URL;VALUE=URI:https://grfavail.com/event/colorado-childrens-chorale-voices-in-the-valley/
TRANSP:OPAQUE
BEGIN:VALARM
ACTION:DISPLAY
TRIGGER;VALUE=DATE-TIME:20210616T190000
DESCRIPTION:Reminder for Colorado Children&#8217\;s Chorale: Voices in the Valley
END:VALARM
END:VEVENT
END:VCALENDAR
