BEGIN:VCALENDAR
VERSION:2.0
PRODID:-//Gerald R. Ford Amphitheater - Official Website //NONSGML Events //EN
CALSCALE:GREGORIAN
X-WR-CALNAME:Gerald R. Ford Amphitheater - Official Website
BEGIN:VEVENT
CREATED:20220321T183650Z
UID:4534
DTEND;VALUE=DATE:20220609T183000
DTSTART;VALUE=DATE:20220609T183000
DTSTAMP:20260423T124029Z
LOCATION:
DESCRIPTION:TWIDDLE MIHALI & G. LOVE Mihali Savoulidisis the lead singer and guitarist for Vermont rock quartet Twiddle. Garrett Dutton, better known as G. Love, is a multi-instrumentalist (guitar, harmonica) out of Philadelphia. Mihali and G. Love will collaborate and perform together in Vail to kick things off on June 9.With 12 years of relentless touring behind them, Vermont-based rock band Twiddle has built an impressive resume spanning Red Rocks to Bonnaroo. The jam band utilizes instrumental improvisation in their live performances, incorporating influences from a variety of music genres including rock, jazz, bluegrass, reggae and funk. THURSDAY, JUNE 9 6:30 PM
SUMMARY:Twiddle | MIHALI & G. LOVE
ORGANIZER:Gerald R. Ford Amphitheater - Official Website
URL;VALUE=URI:https://grfavail.com/event/twiddle/
TRANSP:OPAQUE
BEGIN:VALARM
ACTION:DISPLAY
TRIGGER;VALUE=DATE-TIME:20220609T183000
DESCRIPTION:Reminder for Twiddle | MIHALI &amp\; G. LOVE
END:VALARM
END:VEVENT
END:VCALENDAR
