BEGIN:VCALENDAR
VERSION:2.0
PRODID:-//Gerald R. Ford Amphitheater - Official Website //NONSGML Events //EN
CALSCALE:GREGORIAN
X-WR-CALNAME:Gerald R. Ford Amphitheater - Official Website
BEGIN:VEVENT
CREATED:20220324T190002Z
UID:4764
DTEND;VALUE=DATE:20220730T193000
DTSTART;VALUE=DATE:20220730T193000
DTSTAMP:20260423T195627Z
LOCATION:
DESCRIPTION:<h4 class="text-blue">GERALD R. FORD AMPHITHEATER</h4> <span style="font-weight: 400;">New York City Ballet MOVES returns for a special evening of ballet under the Colorado summer evening sky. MOVES is the dynamic touring arm of New York City Ballet, showcasing intimate chamber works from their history-making repertoire. This program will include Justin Peck’s recent premiere</span><i><span style="font-weight: 400;"> Partita</span></i><span style="font-weight: 400;"> set to Caroline Shaw’s Pulitzer-Prize winning composition </span><i><span style="font-weight: 400;">Partita for 8 Voices</span></i><span style="font-weight: 400;">, Artist-In-Residence Roman Mejia’s debut in Jerome Robbins’ </span><i><span style="font-weight: 400;">A Suite of Dances</span></i><span style="font-weight: 400;">, originally created for Mikhail Baryshnikov, and Jerome Robbins’ timeless</span><i><span style="font-weight: 400;"> In the Night</span></i><span style="font-weight: 400;"> set to nocturnes by Frédéric Chopin.</span> <i><span style="font-weight: 400;">Generously Underwritten by Tina & David Wilson and The Carol F. Storr Endowment for Classical Ballet.</span></i> <a class="btn btn-blue" href="https://vaildance.org/wp-content/uploads/2022/03/7.30-NEW-YORK-CITY-BALLET-MOVES.pdf" target="_blank" rel="noopener">VIEW THE PLAYBILL</a> <hr /> <h5>PROGRAM:</h5> <strong><a href="https://www.nycballet.com/discover/ballet-repertory/partita/"><i>Partita</i></a> </strong> <span data-contrast="auto">Music: Caroline Shaw</span><span data-ccp-props="{"134233117":false,"134233118":false,"201341983":0,"335551550":1,"335551620":1,"335559685":0,"335559737":0,"335559738":0,"335559739":0,"335559740":240}"> </span> <span data-contrast="auto">Choreography: Justin Peck</span><span data-ccp-props="{"134233117":false,"134233118":false,"201341983":0,"335551550":1,"335551620":1,"335559685":0,"335559737":0,"335559738":0,"335559739":0,"335559740":240}"> </span> <span data-contrast="auto">Dancers: Gilbert Bolden III, India Bradley, Harrison Coll, Ashley Hod, Claire Kretzschmar, Roman Mejia, Tiler Peck, KJ Takahashi</span><span data-ccp-props="{"134233117":false,"134233118":false,"201341983":0,"335551550":1,"335551620":1,"335559685":0,"335559737":0,"335559738":0,"335559739":0,"335559740":240}"> </span> <strong><a href="https://www.nycballet.com/discover/ballet-repertory/a-suite-of-dances/#:~:text=Performed%20with%20an%20onstage%20cellist,his%20late%20works%20to%20Bach."><i>A Suite of Dances</i></a> </strong> <span data-contrast="auto">Music: Johann Sebastian Bach</span><span data-ccp-props="{"134233117":false,"134233118":false,"201341983":0,"335551550":1,"335551620":1,"335559685":0,"335559737":0,"335559738":0,"335559739":0,"335559740":240}"> </span> <span data-contrast="auto">Choreography: Jerome Robbins</span><span data-ccp-props="{"134233117":false,"134233118":false,"201341983":0,"335551550":1,"335551620":1,"335559685":0,"335559737":0,"335559738":0,"335559739":0,"335559740":240}"> </span> <span data-contrast="auto">Dancers: Roman Mejia*</span><span data-ccp-props="{"134233117":false,"134233118":false,"201341983":0,"335551550":1,"335551620":1,"335559685":0,"335559737":0,"335559738":0,"335559739":0,"335559740":240}"> </span> <span data-contrast="auto">Musician: Hannah Holman (Cello)</span><span data-ccp-props="{"134233117":false,"134233118":false,"201341983":0,"335551550":1,"335551620":1,"335559685":0,"335559737":0,"335559738":0,"335559739":0,"335559740":240}"> </span> <a href="https://www.nycballet.com/discover/ballet-repertory/in-the-night/"><b><i><span data-contrast="none">In the Night</span></i></b></a><span data-ccp-props="{"201341983":0,"335551550":1,"335551620":1,"335559739":160,"335559740":240}"> </span> <span data-contrast="auto">Music: Frédéric Chopin</span><span data-ccp-props="{"201341983":0,"335551550":1,"335551620":1,"335559739":160,"335559740":240}"> </span> <span data-contrast="auto">Choreography: Jerome Robbins</span><span data-ccp-props="{"201341983":0,"335551550":1,"335551620":1,"335559739":160,"335559740":240}"> </span> <span data-contrast="auto">Dancers: Ashley Hod*, Harrison Coll*, Unity Phelan, Aaron Sanz*, Tiler Peck, Peter Walker</span><span data-ccp-props="{"201341983":0,"335551550":1,"335551620":1,"335559739":160,"335559740":259}"> </span> <span data-contrast="auto">Musician: Elaine Chelton (Piano)</span><span data-ccp-props="{"201341983":0,"335551550":1,"335551620":1,"335559739":160,"335559740":259}"> </span> <span data-contrast="auto">*First Time in a Role</span><span data-ccp-props="{"201341983":0,"335551550":1,"335551620":1,"335559739":160,"335559740":259}"> </span> <em><strong>C</strong></em><em style="font-weight: bold;">asting and repertory are subject to change.</em> <hr /> <em>Photo credit: New York City Ballet performs Justin Peck's Partita. Photo by Erin Baiano. </em>
SUMMARY:New York City Ballet MOVES
ORGANIZER:Gerald R. Ford Amphitheater - Official Website
URL;VALUE=URI:https://grfavail.com/event/new-york-city-ballet-moves/
TRANSP:OPAQUE
BEGIN:VALARM
ACTION:DISPLAY
TRIGGER;VALUE=DATE-TIME:20220730T193000
DESCRIPTION:Reminder for New York City Ballet MOVES
END:VALARM
END:VEVENT
END:VCALENDAR
