BEGIN:VCALENDAR
VERSION:2.0
PRODID:-//Gerald R. Ford Amphitheater - Official Website //NONSGML Events //EN
CALSCALE:GREGORIAN
X-WR-CALNAME:Gerald R. Ford Amphitheater - Official Website
BEGIN:VEVENT
CREATED:20260421T155457Z
UID:83329
DTEND;VALUE=DATE:20260911T183000
DTSTART;VALUE=DATE:20260911T183000
DTSTAMP:20260421T192708Z
LOCATION:
DESCRIPTION:<h3 class="text-orange"><strong>Friday, September 11th, 2026</strong></h3> <h1 class="text-green">THE STRING CHEESE INCIDENT</h1> <h2 class="text-green"><strong>JUST KEEP SPINNING TOUR 2026</strong></h2> The past three decades have written a story packed full of surreal experiences, epic moments, groundbreaking involvement and huge accomplishments. The String Cheese Incident has been recognized for their commitment to musical creativity and integrity, for their community spirit, philanthropic endeavors, and for their innovative approach to the business of music. When The String Cheese Incident’s growth first started gaining momentum in the 1990s, as the Internet was just beginning to take hold and the major-label business model was failing, the band decided to make music on their own terms. Since then, The String Cheese Incident has gone on to carve out a completely unique approach to the business of music; they are truly pioneers of a new way of “making a band.” With the Internet as their tool, SCI was among the first artists to disseminate information online, such as tour dates, release information, and other news, to their growing fan base. Rather than doing business on such terms as “the bottom line,” SCI put their music and their fans first, opening companies of their own, including a ticketing company, a merchandise company and a fan travel agency, to best serve their community. The band’s record label, SCI Fidelity Records, has always operated under the same ideals. Even early on, SCI Fidelity embraced downloadable music and file sharing, delivering SCI’s “On The Road” series, where every show the band plays is made available for download on the Internet. Whether they realized it at the time or not, The String Cheese Incident was inventing grassroots band development. Today, literally hundreds of bands are using some version of this same approach to build their brand. <strong><a href="https://www.stringcheeseincident.com/" target="_blank" rel="noopener">Learn More ></a></strong> <em>Gates open at 5:30pm, Show starts at 6:30pm.</em>
SUMMARY:The String Cheese Incident
ORGANIZER:Gerald R. Ford Amphitheater - Official Website
URL;VALUE=URI:https://grfavail.com/event/stringcheeseincident/
TRANSP:OPAQUE
BEGIN:VALARM
ACTION:DISPLAY
TRIGGER;VALUE=DATE-TIME:20260911T183000
DESCRIPTION:Reminder for The String Cheese Incident
END:VALARM
END:VEVENT
END:VCALENDAR
